BEGIN:VCALENDAR
VERSION:2.0
PRODID:-//Espacio de Creación Joven - ECPv4.2.7//NONSGML v1.0//EN
CALSCALE:GREGORIAN
METHOD:PUBLISH
X-WR-CALNAME:Espacio de Creación Joven
X-ORIGINAL-URL:http://espaciojoven.marchamalo.es
X-WR-CALDESC:Events for Espacio de Creación Joven
BEGIN:VEVENT
DTSTART;TZID=UTC+0:20180422T050000
DTEND;TZID=UTC+0:20180422T190000
DTSTAMP:20260420T204911
CREATED:20180328T160728
LAST-MODIFIED:20180328T160728
UID:1188-1524373200-1524423600@espaciojoven.marchamalo.es
SUMMARY:1898: Los Últimos de Filipinas
DESCRIPTION:
URL:http://espaciojoven.marchamalo.es/event/1898-los-ultimos-de-filipinas/
CATEGORIES:EVENTOS
ATTACH;FMTTYPE=image/jpeg:http://espaciojoven.marchamalo.es/wp-content/uploads/2018/03/1898_los_ultimos_de_filipinas-735303912-large.jpg
END:VEVENT
END:VCALENDAR