BEGIN:VCALENDAR
VERSION:2.0
PRODID:-//Espacio de Creación Joven - ECPv4.2.7//NONSGML v1.0//EN
CALSCALE:GREGORIAN
METHOD:PUBLISH
X-WR-CALNAME:Espacio de Creación Joven
X-ORIGINAL-URL:http://espaciojoven.marchamalo.es
X-WR-CALDESC:Events for Espacio de Creación Joven
BEGIN:VEVENT
DTSTART;TZID=UTC+0:20251115T053000
DTEND;TZID=UTC+0:20251115T203000
DTSTAMP:20260424T201934
CREATED:20251026T195836
LAST-MODIFIED:20251026T200745
UID:3661-1763184600-1763238600@espaciojoven.marchamalo.es
SUMMARY:XI Torneo Futbolín
DESCRIPTION:\n\nMÁS INFO:\n\nTodas las actividades son gratuitas.\n\nActividad para jóvenes a partir de 12 años con carné de usuario de centro.\n\nInscripciones en el Espacio Joven o mandando un correo electrónico a espacio.joven@marchamalo.com.\n\nPuedes apuntarte a partir del miércoles 5 de noviembre.\n\nPlazas limitadas y por orden de inscripción.\n\nPremio para los ganad@res.\n\nREGLAMENTO BÁSICO FUTBOLÍN 2024
URL:http://espaciojoven.marchamalo.es/event/3661/
CATEGORIES:EVENTOS
END:VEVENT
END:VCALENDAR