BEGIN:VCALENDAR
VERSION:2.0
PRODID:-//Espacio de Creación Joven - ECPv4.2.7//NONSGML v1.0//EN
CALSCALE:GREGORIAN
METHOD:PUBLISH
X-WR-CALNAME:Espacio de Creación Joven
X-ORIGINAL-URL:http://espaciojoven.marchamalo.es
X-WR-CALDESC:Events for Espacio de Creación Joven
BEGIN:VEVENT
DTSTART;TZID=UTC+0:20171229T043000
DTEND;TZID=UTC+0:20171229T220000
DTSTAMP:20260423T192049
CREATED:20171126T200744
LAST-MODIFIED:20171126T200744
UID:972-1514521800-1514584800@espaciojoven.marchamalo.es
SUMMARY:Adornos de Navidad con pasta de sal
DESCRIPTION:OBJETIVOS:\n- Hacer grabados con objetos en relieve y estampar en la masa.\n- Ejecutar una masa flexible con materiales caseros.\n- Disfrutar de la Navidad y de sus actividades con amigos.\n- Potenciar la creatividad e imaginación\n\nDESCRIPCIÓN DE LA ACTIVIDAD: Primero explicaremos la receta por grupos y les haremos entrega de una de ellas para que la puedan seguirla paso a paso.\nLa receta es la siguiente:\n- Mezclar 1/2 taza de agua\, 1/2 taza de sal y 1 taza de harina.\n- Amasar\, expandir sobre una superficie y cortar las figuras que queramos.\n- Meterlas en el horno a 200ºC durante 30 minutos.\n- Decorarlas con pintura\, rotuladores\, sellos de estampar y tinta.\n\nTEMPORALIZACIÓN: La actividad dará comienzo a las 16.30 h y finalizará a las 22.00 h.\n\nEDAD DE LOS PARTICIPANTES: primer y segundo grupo niños de 6 a 11 años y  sucesivos grupos\, jóvenes a partir de 12 años.
URL:http://espaciojoven.marchamalo.es/event/adornos-de-navidad-con-pasta-de-sal/
CATEGORIES:EVENTOS
ATTACH;FMTTYPE=image/jpeg:http://espaciojoven.marchamalo.es/wp-content/uploads/2017/11/Adornos-navideños-con-pasta-de-sal.jpg
END:VEVENT
END:VCALENDAR