BEGIN:VCALENDAR
VERSION:2.0
PRODID:-//Espacio de Creación Joven - ECPv4.2.7//NONSGML v1.0//EN
CALSCALE:GREGORIAN
METHOD:PUBLISH
X-WR-CALNAME:Espacio de Creación Joven
X-ORIGINAL-URL:http://espaciojoven.marchamalo.es
X-WR-CALDESC:Events for Espacio de Creación Joven
BEGIN:VEVENT
DTSTART;TZID=UTC+0:20180107T050000
DTEND;TZID=UTC+0:20180107T183000
DTSTAMP:20260423T082732
CREATED:20171221T185643
LAST-MODIFIED:20171221T185643
UID:1002-1515301200-1515349800@espaciojoven.marchamalo.es
SUMMARY:Al filo de los diecisiete
DESCRIPTION:
URL:http://espaciojoven.marchamalo.es/event/al-filo-de-los-diecisiete/
CATEGORIES:EVENTOS
ATTACH;FMTTYPE=image/jpeg:http://espaciojoven.marchamalo.es/wp-content/uploads/2017/12/Al-filo-de-los-17.jpg
END:VEVENT
END:VCALENDAR