BEGIN:VCALENDAR
VERSION:2.0
PRODID:-//Espacio de Creación Joven - ECPv4.2.7//NONSGML v1.0//EN
CALSCALE:GREGORIAN
METHOD:PUBLISH
X-WR-CALNAME:Espacio de Creación Joven
X-ORIGINAL-URL:http://espaciojoven.marchamalo.es
X-WR-CALDESC:Events for Espacio de Creación Joven
BEGIN:VEVENT
DTSTART;TZID=UTC+0:20180311T050000
DTEND;TZID=UTC+0:20180311T183000
DTSTAMP:20260422T160424
CREATED:20180225T195101
LAST-MODIFIED:20180225T195101
UID:1111-1520744400-1520793000@espaciojoven.marchamalo.es
SUMMARY:Anarchy: La Noche de las Bestias
DESCRIPTION:
URL:http://espaciojoven.marchamalo.es/event/anarchy-la-noche-de-las-bestias/
CATEGORIES:EVENTOS
ATTACH;FMTTYPE=image/jpeg:http://espaciojoven.marchamalo.es/wp-content/uploads/2018/02/Anarchy-La-noche-de-las-bestias.jpg
END:VEVENT
END:VCALENDAR