BEGIN:VCALENDAR
VERSION:2.0
PRODID:-//Espacio de Creación Joven - ECPv4.2.7//NONSGML v1.0//EN
CALSCALE:GREGORIAN
METHOD:PUBLISH
X-WR-CALNAME:Espacio de Creación Joven
X-ORIGINAL-URL:http://espaciojoven.marchamalo.es
X-WR-CALDESC:Events for Espacio de Creación Joven
BEGIN:VEVENT
DTSTART;TZID=UTC+0:20181005T043000
DTEND;TZID=UTC+0:20181005T220000
DTSTAMP:20260420T151302
CREATED:20180919T143858
LAST-MODIFIED:20180919T145103
UID:1298-1538713800-1538776800@espaciojoven.marchamalo.es
SUMMARY:Bolígrafos escarchados
DESCRIPTION:OBJETIVOS:\n\n- Decorar nuestros bolígrafos dándoles un toque original\, bonito y brillante.\n- Disponer de un recurso creativo para el nuevo curso escolar.\n- Potenciar la creatividad e imaginación.\n- Disfrutar de la actividad y pasar un rato divertido.\n\nDESCRIPCIÓN DE LA ACTIVIDAD: la actividad es fácil y sencilla y requiere de poco tiempo y de escasos materiales para su elaboración. Primero la animadora enseñará los modelos y a continuación repartirá un bolígrafo y purpurina de colores a cada participante. Fácilmente y con ayuda de nuestras uñas quitamos el tapón de la parte superior y con ayuda de un embudo de papel introducimos la escarcha de colores. Finalmente podemos decorar nuestro bolígrafo realizando un diseño en goma eva y pegándolo en el capuchón.\n\nTEMPORALIZACIÓN: la actividad dará comienzo a las 16.30 h y finalizará a las 22.00 h.\n\nEDAD DE LOS PARTICIPANTES: primer y segundo grupo\, niños de 6 a 11 años y sucesivos grupos\, jóvenes a partir de 12 años
URL:http://espaciojoven.marchamalo.es/event/boligrafos-escarchados/
CATEGORIES:EVENTOS
ATTACH;FMTTYPE=image/jpeg:http://espaciojoven.marchamalo.es/wp-content/uploads/2018/09/BOLÍGRAFOS-ESCARCHADOS.jpg
END:VEVENT
END:VCALENDAR