BEGIN:VCALENDAR
VERSION:2.0
PRODID:-//Espacio de Creación Joven - ECPv4.2.7//NONSGML v1.0//EN
CALSCALE:GREGORIAN
METHOD:PUBLISH
X-WR-CALNAME:Espacio de Creación Joven
X-ORIGINAL-URL:http://espaciojoven.marchamalo.es
X-WR-CALDESC:Events for Espacio de Creación Joven
BEGIN:VEVENT
DTSTART;TZID=UTC+0:20181102T043000
DTEND;TZID=UTC+0:20181102T220000
DTSTAMP:20260421T230212
CREATED:20181024T142807
LAST-MODIFIED:20181025T155541
UID:1351-1541133000-1541196000@espaciojoven.marchamalo.es
SUMMARY:Botes Minnie&Mickey Mouse
DESCRIPTION:OBJETIVOS:\n- Reutilizar materiales de desecho como frascos de conservas para realizar una herramienta de lo más útil.\n- Decorar cristal con spray\, tempera y goma eva.\n- Aprender una nueva técnica económica\, sencilla y bonita.\n- Mejorar la técnica de diseño y dibujo a mano.\n- Potenciar la creatividad e imaginación.\n- Disfrutar de la actividad y pasar un rato divertido.\n\nDESCRIPCIÓN DE LA ACTIVIDAD: cada participante elegirá el diseño de bote (pequeño o grande) a continuación decidirá si quiere ejecutar a Minnie o Mickey Mouse. Para hacer el Mickey tendremos que pintar todo el bote de color negro y cuando este seco por completo rodearemos con cinta de papel todo el bote excepto tres dedos de la parte inferior del bote\, a continuación con spray rojo/tempera roja pintamos y dejamos secar\, mientras que seca realizamos los botones del pantalón de Mickey con goma eva blanca y las orejas con goma eva negra. Finalmente pegamos todo con silicona caliente.\n\nTEMPORALIZACIÓN: la actividad dará comienzo a las 16.30 h y finalizará a las 22.00 h.\n\nEDAD DE LOS PARTICIPANTES: primer y segundo grupo\, niños de 6 a 11 años y sucesivos grupos\, jóvenes a partir de 12 años.
URL:http://espaciojoven.marchamalo.es/event/botes-minniemicky-mouse/
CATEGORIES:EVENTOS
ATTACH;FMTTYPE=image/jpeg:http://espaciojoven.marchamalo.es/wp-content/uploads/2018/10/Botes-Minnie-y-Micky-Mouse.jpg
END:VEVENT
END:VCALENDAR