BEGIN:VCALENDAR
VERSION:2.0
PRODID:-//Espacio de Creación Joven - ECPv4.2.7//NONSGML v1.0//EN
CALSCALE:GREGORIAN
METHOD:PUBLISH
X-WR-CALNAME:Espacio de Creación Joven
X-ORIGINAL-URL:http://espaciojoven.marchamalo.es
X-WR-CALDESC:Events for Espacio de Creación Joven
BEGIN:VEVENT
DTSTART;TZID=UTC+0:20181216T053000
DTEND;TZID=UTC+0:20181216T193000
DTSTAMP:20260423T033912
CREATED:20181121T151819
LAST-MODIFIED:20181121T151819
UID:1421-1544938200-1544988600@espaciojoven.marchamalo.es
SUMMARY:Campeones
DESCRIPTION:
URL:http://espaciojoven.marchamalo.es/event/campeones/
CATEGORIES:EVENTOS
ATTACH;FMTTYPE=image/jpeg:http://espaciojoven.marchamalo.es/wp-content/uploads/2018/11/pelicula-campeones.jpg
END:VEVENT
END:VCALENDAR