BEGIN:VCALENDAR
VERSION:2.0
PRODID:-//Espacio de Creación Joven - ECPv4.2.7//NONSGML v1.0//EN
CALSCALE:GREGORIAN
METHOD:PUBLISH
X-WR-CALNAME:Espacio de Creación Joven
X-ORIGINAL-URL:http://espaciojoven.marchamalo.es
X-WR-CALDESC:Events for Espacio de Creación Joven
BEGIN:VEVENT
DTSTART;TZID=UTC+0:20180209T043000
DTEND;TZID=UTC+0:20180209T220000
DTSTAMP:20260423T130010
CREATED:20180125T191710
LAST-MODIFIED:20180125T191710
UID:1058-1518150600-1518213600@espaciojoven.marchamalo.es
SUMMARY:Corazón slime
DESCRIPTION:OBJETIVOS:\n- Ejecutar un original corazón con sorpresa.\n- Realizar un regalo a esa persona especial en el día de San Valentín.\n- Potenciar la creatividad e imaginación.\n- Disfrutar de la actividad y pasar un rato divertido.\n\nDESCRIPCIÓN DE LA ACTIVIDAD: con pasta para moldear y un molde de corazón ejecutaremos la forma\, seguidamente cortaremos por la mitad el corazón y con mucho cuidado de no estropear la forma vaciamos con una espátula el interior de las dos mitades\, seguidamente pintamos nuestro corazón y dejamos secar. Mientras que este se seca procederemos a realizar el slime para el relleno. Finalmente rellenamos y añadimos un mensaje de amor en la parte delantera de nuestro corazón.\n\nTEMPORALIZACIÓN: La actividad dará comienzo a las 16.30 h y finalizará a las 22.00 h.\n\nEDAD DE LOS PARTICIPANTES: primer y segundo grupo\, niños de 6 a 11 años y sucesivos grupos\, jóvenes a partir de 12 años.
URL:http://espaciojoven.marchamalo.es/event/corazon-slime/
CATEGORIES:EVENTOS
ATTACH;FMTTYPE=image/jpeg:http://espaciojoven.marchamalo.es/wp-content/uploads/2018/01/CORAZÓN-SLIME.jpg
END:VEVENT
END:VCALENDAR