BEGIN:VCALENDAR
VERSION:2.0
PRODID:-//Espacio de Creación Joven - ECPv4.2.7//NONSGML v1.0//EN
CALSCALE:GREGORIAN
METHOD:PUBLISH
X-WR-CALNAME:Espacio de Creación Joven
X-ORIGINAL-URL:http://espaciojoven.marchamalo.es
X-WR-CALDESC:Events for Espacio de Creación Joven
BEGIN:VEVENT
DTSTART;TZID=UTC+0:20180520T050000
DTEND;TZID=UTC+0:20180520T183000
DTSTAMP:20260420T055744
CREATED:20180430T181153
LAST-MODIFIED:20180430T181153
UID:1244-1526792400-1526841000@espaciojoven.marchamalo.es
SUMMARY:Feliz Día de tu Muerte
DESCRIPTION:
URL:http://espaciojoven.marchamalo.es/event/feliz-dia-de-tu-muerte/
CATEGORIES:EVENTOS
ATTACH;FMTTYPE=image/jpeg:http://espaciojoven.marchamalo.es/wp-content/uploads/2018/04/feliz_dia_de_tu_muerte-cartel-7809.jpg
END:VEVENT
END:VCALENDAR