BEGIN:VCALENDAR
VERSION:2.0
PRODID:-//Espacio de Creación Joven - ECPv4.2.7//NONSGML v1.0//EN
CALSCALE:GREGORIAN
METHOD:PUBLISH
X-WR-CALNAME:Espacio de Creación Joven
X-ORIGINAL-URL:http://espaciojoven.marchamalo.es
X-WR-CALDESC:Events for Espacio de Creación Joven
BEGIN:VEVENT
DTSTART;TZID=UTC+0:20181130T043000
DTEND;TZID=UTC+0:20181130T220000
DTSTAMP:20260422T114456
CREATED:20181024T150139
LAST-MODIFIED:20181024T150139
UID:1388-1543552200-1543615200@espaciojoven.marchamalo.es
SUMMARY:Fundas para pasaporte
DESCRIPTION:OBJETIVOS:\n- Aprender una nueva habilidad y técnica manual.\n- Ejecutar un diseño de funda único y diferente.\n- Realizar una funda útil para guardar nuestro pasaporte y evitar perderlo cuando viajemos.\n- Utilizar materiales reutilizables\, diferentes e innovadores.\n- Potenciar la creatividad e imaginación.\n- Disfrutar de la actividad y pasar un rato divertido.\n\nDESCRIPCIÓN DE LA ACTIVIDAD: la animadora enseñará variados diseños y modelos y explicará el proceso. Primero elegiremos y cogeremos un folio a color de la colección viajera (mapas o diseños de ciudades\, países…) A continuación cogemos la plantilla y la calcamos en el folio\, posteriormente recortamos y plastificamos. Cuando lo tengamos plastificado\, procedemos a doblarlo. Seguidamente abrimos nuestra funda\, medimos con una regla la mitad de la funda y troquelamos\, en ese agujero introducimos la goma elástica que servirá para que no se salga nuestro documento. Finalmente decoramos con pegatinas y ya estará listo!!!\nLos más pequeños pintarán el diseño\, sin necesidad de calcar ni recortar la plantilla.\n\nTEMPORALIZACIÓN: la actividad dará comienzo a las 16.30 h y finalizará a las 22.00 h.\n\nEDAD DE LOS PARTICIPANTES: primer y segundo grupo\, niños de 6 a 11 años y sucesivos grupos\, jóvenes a partir de 12 años.
URL:http://espaciojoven.marchamalo.es/event/fundas-para-pasaporte/
CATEGORIES:EVENTOS
ATTACH;FMTTYPE=image/jpeg:http://espaciojoven.marchamalo.es/wp-content/uploads/2018/10/Funda-pasaporte.jpg
END:VEVENT
END:VCALENDAR