BEGIN:VCALENDAR
VERSION:2.0
PRODID:-//Espacio de Creación Joven - ECPv4.2.7//NONSGML v1.0//EN
CALSCALE:GREGORIAN
METHOD:PUBLISH
X-WR-CALNAME:Espacio de Creación Joven
X-ORIGINAL-URL:http://espaciojoven.marchamalo.es
X-WR-CALDESC:Events for Espacio de Creación Joven
BEGIN:VEVENT
DTSTART;TZID=UTC+0:20180526T053000
DTEND;TZID=UTC+0:20180526T210000
DTSTAMP:20260420T001938
CREATED:20180430T181722
LAST-MODIFIED:20180430T181722
UID:1253-1527312600-1527368400@espaciojoven.marchamalo.es
SUMMARY:I Torneo de Call of Duty Black Ops II
DESCRIPTION:
URL:http://espaciojoven.marchamalo.es/event/i-torneo-de-call-of-duty-black-ops-ii/
CATEGORIES:EVENTOS
ATTACH;FMTTYPE=image/jpeg:http://espaciojoven.marchamalo.es/wp-content/uploads/2018/04/I-TORNEO-CALL-OF-DUTY-BLACK-OPS-II.jpg
END:VEVENT
END:VCALENDAR