BEGIN:VCALENDAR
VERSION:2.0
PRODID:-//Espacio de Creación Joven - ECPv4.2.7//NONSGML v1.0//EN
CALSCALE:GREGORIAN
METHOD:PUBLISH
X-WR-CALNAME:Espacio de Creación Joven
X-ORIGINAL-URL:http://espaciojoven.marchamalo.es
X-WR-CALDESC:Events for Espacio de Creación Joven
BEGIN:VEVENT
DTSTART;TZID=UTC+0:20180310T053000
DTEND;TZID=UTC+0:20180310T220000
DTSTAMP:20260422T214649
CREATED:20180225T194933
LAST-MODIFIED:20180225T194933
UID:1108-1520659800-1520719200@espaciojoven.marchamalo.es
SUMMARY:I Torneo PS3 NBA 2k16
DESCRIPTION:OBJETIVOS:\n- Conocer y aprender a jugar al juego “NBA2K16”.\n\n- Disfrutar de la PlayStation 3.\n\n- Pasar un rato divertido.\n\n- Participar para disfrutar y pasarlo bien.\n\n- Saber jugar en equipo.\n\nDESCRIPCIÓN DE LA ACTIVIDAD: Los participantes se pondrán por parejas. Se sortearán los turnos de inicio y los contrincantes. Todas las parejas jugarán por orden numérico al juego. Por cada ronda se realizará un recuento de puntos\, los participantes con menor puntuación serán eliminados. El número de rondas o fases de juego dependerá del número de participantes.\n\nTEMPORALIZACIÓN: La actividad dará comienzo a las 17.30 h y finalizará a las 22.00 h.\n\nEDAD DE LOS PARTICIPANTES: de 12 años en adelante
URL:http://espaciojoven.marchamalo.es/event/i-torneo-ps3-nba-2k16/
CATEGORIES:EVENTOS
ATTACH;FMTTYPE=image/jpeg:http://espaciojoven.marchamalo.es/wp-content/uploads/2018/02/I-TORNEO-DE-PS3-NBA-2k16.jpg
END:VEVENT
END:VCALENDAR