BEGIN:VCALENDAR
VERSION:2.0
PRODID:-//Espacio de Creación Joven - ECPv4.2.7//NONSGML v1.0//EN
CALSCALE:GREGORIAN
METHOD:PUBLISH
X-WR-CALNAME:Espacio de Creación Joven
X-ORIGINAL-URL:http://espaciojoven.marchamalo.es
X-WR-CALDESC:Events for Espacio de Creación Joven
BEGIN:VEVENT
DTSTART;TZID=UTC+0:20260125T040000
DTEND;TZID=UTC+0:20260125T203000
DTSTAMP:20260424T163551
CREATED:20251228T203159
LAST-MODIFIED:20251228T203159
UID:3786-1769313600-1769373000@espaciojoven.marchamalo.es
SUMMARY:II LIGA COMMANDER
DESCRIPTION:
URL:http://espaciojoven.marchamalo.es/event/ii-liga-commander/
CATEGORIES:EVENTOS
END:VEVENT
END:VCALENDAR