BEGIN:VCALENDAR
VERSION:2.0
PRODID:-//Espacio de Creación Joven - ECPv4.2.7//NONSGML v1.0//EN
CALSCALE:GREGORIAN
METHOD:PUBLISH
X-WR-CALNAME:Espacio de Creación Joven
X-ORIGINAL-URL:http://espaciojoven.marchamalo.es
X-WR-CALDESC:Events for Espacio de Creación Joven
BEGIN:VEVENT
DTSTART;TZID=UTC+0:20180224T053000
DTEND;TZID=UTC+0:20180224T220000
DTSTAMP:20260423T031725
CREATED:20180125T193730
LAST-MODIFIED:20180125T193730
UID:1080-1519450200-1519509600@espaciojoven.marchamalo.es
SUMMARY:III Concurso de karaoke
DESCRIPTION:OBJETIVOS:\n- Disfrutar cantando.\n\n- Pasar un rato divertido.\n\n- Eliminar la vergüenza y el miedo escénico.\n\nDESCRIPCIÓN DE LA ACTIVIDAD: el concurso sera por parejas\, los aspirantes al premio cantarán por orden y por sorteo numérico\, se realizarán diferentes fases y en cada una de ellas todos los participantes cantarán la misma canción que habrá sido previamente elegida de manera aleatoria. La animadora junto a un jurado ira puntuando e irán pasando los participantes que mejor lo realicen. Finalmente y para culminar la actividad\, la pareja ganadora elegirá una canción y la cantará delante de todo el público.\n\nTEMPORALIZACIÓN: La actividad dará comienzo a las 17.30 h y finalizará a las 22.00 h.\n\nEDAD DE LOS PARTICIPANTES: de 12 años en adelante.
URL:http://espaciojoven.marchamalo.es/event/iii-concurso-de-karaoke/
CATEGORIES:EVENTOS
ATTACH;FMTTYPE=image/jpeg:http://espaciojoven.marchamalo.es/wp-content/uploads/2018/01/III-CONCURSO-DE-KARAOKE.jpg
END:VEVENT
END:VCALENDAR