BEGIN:VCALENDAR
VERSION:2.0
PRODID:-//Espacio de Creación Joven - ECPv4.2.7//NONSGML v1.0//EN
CALSCALE:GREGORIAN
METHOD:PUBLISH
X-WR-CALNAME:Espacio de Creación Joven
X-ORIGINAL-URL:http://espaciojoven.marchamalo.es
X-WR-CALDESC:Events for Espacio de Creación Joven
BEGIN:VEVENT
DTSTART;TZID=UTC+0:20251123T000000
DTEND;TZID=UTC+0:20251123T230000
DTSTAMP:20260424T220613
CREATED:20251026T203032
LAST-MODIFIED:20251026T203032
UID:3686-1763856000-1763938800@espaciojoven.marchamalo.es
SUMMARY:III Encuentro Joven
DESCRIPTION:\n\n
URL:http://espaciojoven.marchamalo.es/event/iii-encuentro-joven-2/
CATEGORIES:EVENTOS
END:VEVENT
END:VCALENDAR