BEGIN:VCALENDAR
VERSION:2.0
PRODID:-//Espacio de Creación Joven - ECPv4.2.7//NONSGML v1.0//EN
CALSCALE:GREGORIAN
METHOD:PUBLISH
X-WR-CALNAME:Espacio de Creación Joven
X-ORIGINAL-URL:http://espaciojoven.marchamalo.es
X-WR-CALDESC:Events for Espacio de Creación Joven
BEGIN:VEVENT
DTSTART;TZID=UTC+0:20251122T000000
DTEND;TZID=UTC+0:20251122T230000
DTSTAMP:20260424T202348
CREATED:20251026T202930
LAST-MODIFIED:20251026T202930
UID:3684-1763769600-1763852400@espaciojoven.marchamalo.es
SUMMARY:III Encuentro Joven
DESCRIPTION:\n\n
URL:http://espaciojoven.marchamalo.es/event/iii-encuentro-joven/
CATEGORIES:EVENTOS
END:VEVENT
END:VCALENDAR