BEGIN:VCALENDAR
VERSION:2.0
PRODID:-//Espacio de Creación Joven - ECPv4.2.7//NONSGML v1.0//EN
CALSCALE:GREGORIAN
METHOD:PUBLISH
X-WR-CALNAME:Espacio de Creación Joven
X-ORIGINAL-URL:http://espaciojoven.marchamalo.es
X-WR-CALDESC:Events for Espacio de Creación Joven
BEGIN:VEVENT
DTSTART;TZID=UTC+0:20181013T080000
DTEND;TZID=UTC+0:20181013T170000
DTSTAMP:20260420T161324
CREATED:20180919T145521
LAST-MODIFIED:20180919T145521
UID:1313-1539417600-1539450000@espaciojoven.marchamalo.es
SUMMARY:III Torneo de Petanca
DESCRIPTION:OBJETIVOS:\n- Aprender a jugar a un nuevo deporte.\n- Potenciar de forma positiva los deportes al aire libre.\n- Favorecer el desarrollo personal y social de los jóvenes.\n- Comprender y cumplir normas del juego.\n- Desarrollar las habilidades sociales\, espaciales\, cognitivas\, psicomotrices y lógicas entre los jóvenes.\n- Divertirse con el juego y pasarlo bien.\n- Fomentar el deporte en los jóvenes como actividad de ocio lúdica y recreativa.\n- Saber jugar en pareja\, apoyando al compañero\, animándolo\, ayudándolo y siendo positivo.\n- Conocer gente nueva.\n- Participar no para ganar\, sino para disfrutar.\n\nDESCRIPCIÓN DE LA ACTIVIDAD: primeramente la animadora explicará las normas y reglamento del juego\, a continuación realizaremos partidas en práctica. Y seguidamente empezaremos con el torneo.\nLos turnos de juego serán aleatorios y por sorteo numérico. Las rondas o fases de juego dependerán del número de inscripciones. Los mejores de cada fase pasarán a la siguiente ronda y en la final solamente podrán quedar dos parejas. Existirá un premio para la pareja ganadora.\n\nTEMPORALIZACIÓN: la actividad dará comienzo a las 17.30 h y finalizará a las 22.00 h.\n\nEDAD DE LOS PARTICIPANTES: de 12 años en adelante.
URL:http://espaciojoven.marchamalo.es/event/iii-torneo-de-petanca/
CATEGORIES:EVENTOS
ATTACH;FMTTYPE=image/jpeg:http://espaciojoven.marchamalo.es/wp-content/uploads/2018/09/III-TORNEO-PETANCA-OCTUBRE-2018.jpg
END:VEVENT
END:VCALENDAR