BEGIN:VCALENDAR
VERSION:2.0
PRODID:-//Espacio de Creación Joven - ECPv4.2.7//NONSGML v1.0//EN
CALSCALE:GREGORIAN
METHOD:PUBLISH
X-WR-CALNAME:Espacio de Creación Joven
X-ORIGINAL-URL:http://espaciojoven.marchamalo.es
X-WR-CALDESC:Events for Espacio de Creación Joven
BEGIN:VEVENT
DTSTART;TZID=UTC+0:20251018T050000
DTEND;TZID=UTC+0:20251018T203000
DTSTAMP:20260425T000544
CREATED:20250917T154947
LAST-MODIFIED:20250917T160115
UID:3602-1760763600-1760819400@espaciojoven.marchamalo.es
SUMMARY:III Torneo Sushi go!
DESCRIPTION:\n\nMÁS INFO:\n\nTodas las actividades son gratuitas.\n\nActividad para jóvenes a partir de 12 años con carné de usuario de centro.\n\nInscripciones en el Espacio Joven o mandando un correo electrónico a espacio.joven@marchamalo.com.\n\nPuedes apuntarte a partir del miércoles 8 de octubre.\n\nPlazas limitadas y por orden de inscripción.\n\nPremio para el ganad@r.
URL:http://espaciojoven.marchamalo.es/event/iii-torneo-sushi-go/
CATEGORIES:EVENTOS
END:VEVENT
END:VCALENDAR