BEGIN:VCALENDAR
VERSION:2.0
PRODID:-//Espacio de Creación Joven - ECPv4.2.7//NONSGML v1.0//EN
CALSCALE:GREGORIAN
METHOD:PUBLISH
X-WR-CALNAME:Espacio de Creación Joven
X-ORIGINAL-URL:http://espaciojoven.marchamalo.es
X-WR-CALDESC:Events for Espacio de Creación Joven
BEGIN:VEVENT
DTSTART;TZID=UTC+0:20180218T050000
DTEND;TZID=UTC+0:20180218T190000
DTSTAMP:20260423T021835
CREATED:20180125T193037
LAST-MODIFIED:20180125T193037
UID:1074-1518930000-1518980400@espaciojoven.marchamalo.es
SUMMARY:Imperium
DESCRIPTION:
URL:http://espaciojoven.marchamalo.es/event/imperium/
CATEGORIES:EVENTOS
ATTACH;FMTTYPE=image/jpeg:http://espaciojoven.marchamalo.es/wp-content/uploads/2018/01/IMPERIUM.jpg
END:VEVENT
END:VCALENDAR