BEGIN:VCALENDAR
VERSION:2.0
PRODID:-//Espacio de Creación Joven - ECPv4.2.7//NONSGML v1.0//EN
CALSCALE:GREGORIAN
METHOD:PUBLISH
X-WR-CALNAME:Espacio de Creación Joven
X-ORIGINAL-URL:http://espaciojoven.marchamalo.es
X-WR-CALDESC:Events for Espacio de Creación Joven
BEGIN:VEVENT
DTSTART;TZID=UTC+0:20181021T053000
DTEND;TZID=UTC+0:20181021T190000
DTSTAMP:20260420T234549
CREATED:20180919T150639
LAST-MODIFIED:20180919T150735
UID:1325-1540099800-1540148400@espaciojoven.marchamalo.es
SUMMARY:Insidious: La Última llave
DESCRIPTION:
URL:http://espaciojoven.marchamalo.es/event/insidious-la-ultima-llave/
CATEGORIES:EVENTOS
ATTACH;FMTTYPE=image/jpeg:http://espaciojoven.marchamalo.es/wp-content/uploads/2018/09/Insidious-la-última-llave.jpg
END:VEVENT
END:VCALENDAR