BEGIN:VCALENDAR
VERSION:2.0
PRODID:-//Espacio de Creación Joven - ECPv4.2.7//NONSGML v1.0//EN
CALSCALE:GREGORIAN
METHOD:PUBLISH
X-WR-CALNAME:Espacio de Creación Joven
X-ORIGINAL-URL:http://espaciojoven.marchamalo.es
X-WR-CALDESC:Events for Espacio de Creación Joven
BEGIN:VEVENT
DTSTART;TZID=UTC+0:20180414T053000
DTEND;TZID=UTC+0:20180414T210000
DTSTAMP:20260421T025556
CREATED:20180328T162602
LAST-MODIFIED:20180328T162602
UID:1209-1523683800-1523739600@espaciojoven.marchamalo.es
SUMMARY:IV Torneo de Ping-Pong
DESCRIPTION:OBJETIVOS:\n- Fomentar el ping-pong en los jóvenes como deporte recreativo.\n- Desarrollar cualidades de rapidez\, habilidad manual y movilidad.\n- Pasar un rato entre amigos\, disfrutando del deporte.\n- Participar no para ganar sino para disfrutar.\n\nDESCRIPCIÓN DE LA ACTIVIDAD: El torneo será individual.\nSe establecerán las parejas de juego o contrincantes por sorteo\, si hay 16 participantes existirán en la primera ronda 8 parejas. Cada partido dura 21 puntos. De ese primer partido\, uno ganará y otro perderá\, el que gane volverá a jugar con otro ganador\, las parejas se establecerán por sorteo\, como en el primer partido\, en este caso saldrán 4 parejas que volverán a jugar y mismamente saldrá un ganador y un perdedor. El jugador que gane volverá a jugar y así consecutivamente hasta que solo quede uno. El que llegue al final\, será el absoluto ganador y recibirá un premio.\n\nTEMPORALIZACIÓN: La actividad dará comienzo a las 17.30 h y finalizará a las 21.00 h.\n\nEDAD DE LOS PARTICIPANTES: de 12 años en adelante.
URL:http://espaciojoven.marchamalo.es/event/iv-torneo-de-ping-pong/
CATEGORIES:EVENTOS
ATTACH;FMTTYPE=image/jpeg:http://espaciojoven.marchamalo.es/wp-content/uploads/2018/03/IV-TORNEO-DE-PING-PONG.jpg
END:VEVENT
END:VCALENDAR