BEGIN:VCALENDAR
VERSION:2.0
PRODID:-//Espacio de Creación Joven - ECPv4.2.7//NONSGML v1.0//EN
CALSCALE:GREGORIAN
METHOD:PUBLISH
X-WR-CALNAME:Espacio de Creación Joven
X-ORIGINAL-URL:http://espaciojoven.marchamalo.es
X-WR-CALDESC:Events for Espacio de Creación Joven
BEGIN:VEVENT
DTSTART;TZID=UTC+0:20181221T043000
DTEND;TZID=UTC+0:20181221T210000
DTSTAMP:20260423T033633
CREATED:20181121T152115
LAST-MODIFIED:20181121T152115
UID:1424-1545366600-1545426000@espaciojoven.marchamalo.es
SUMMARY:Jabones Navideños
DESCRIPTION:OBJETIVOS:\n- Elaborar un jabón de glicerina con motivos navideños.\n- Descubrir y aprender los materiales a utilizar y los pasos del proceso de fabricación.\n- Promover el uso de jabones artesanales.\n- Potenciar la creatividad e imaginación.\n- Disfrutar de la actividad y pasar un rato divertido.\nDESCRIPCIÓN DE LA ACTIVIDAD: la animadora enseñará los diferentes moldes existentes y modelos ejecutados para que cada participante escoja un diseño. A continuación cortaremos la glicerina en trocitos y la colocamos en un recipiente de cristal y lo introduciremos por unos pocos segundos en el microondas\, una vez derretido lo sacamos rápidamente e inmediatamente añadimos unas gotas de colorante y unas gotas de esencia y removemos. Este proceso hay que hacerlo rápidamente porque la glicerina se enfría bastante rápido y se queda dura. Seguidamente vertemos la mezcla en los moldes\, pulverizamos con alcohol para eliminar burbujas y dejamos endurecer. Finalmente desmoldamos y envolvemos nuestro jabón en papel decorativo.\n\nTEMPORALIZACIÓN: la actividad dará comienzo a las 16.30 h y finalizará a las 21.00 h.\n\nEDAD DE LOS PARTICIPANTES: primer y segundo grupo\, niños de 6 a 11 años y sucesivos grupos\, jóvenes a partir de 12 años.
URL:http://espaciojoven.marchamalo.es/event/jabones-navidenos/
CATEGORIES:EVENTOS
ATTACH;FMTTYPE=image/jpeg:http://espaciojoven.marchamalo.es/wp-content/uploads/2018/11/Jabones-Navideños.jpg
END:VEVENT
END:VCALENDAR