BEGIN:VCALENDAR
VERSION:2.0
PRODID:-//Espacio de Creación Joven - ECPv4.2.7//NONSGML v1.0//EN
CALSCALE:GREGORIAN
METHOD:PUBLISH
X-WR-CALNAME:Espacio de Creación Joven
X-ORIGINAL-URL:http://espaciojoven.marchamalo.es
X-WR-CALDESC:Events for Espacio de Creación Joven
BEGIN:VEVENT
DTSTART;TZID=UTC+0:20180512T053000
DTEND;TZID=UTC+0:20180512T220000
DTSTAMP:20260420T141627
CREATED:20180430T181318
LAST-MODIFIED:20180430T181318
UID:1247-1526103000-1526162400@espaciojoven.marchamalo.es
SUMMARY:Juegos Wii
DESCRIPTION:OBJETIVOS:\n- Disponer de nuevos juegos de entretenimiento.\n\n- Participar para disfrutar y pasarlo bien.\n\n- Saber jugar en equipo.\n\n- Estimular las funciones cognitivas\, como la atención\, percepción\, memoria y orientación.\n\n- Ofrecer juegos llamativos.\n\nDESCRIPCIÓN DE LA ACTIVIDAD: la animadora en esta actividad simplemente estará de guía y observadora. Se establecerán los turnos de juego y se sortearán las parejas\, existirán varias rondas o turnos de juego según llegada o número de inscripción.\nLos participantes tendrán la opción de cambiar de juego cuando gusten o deseen.\n\nTEMPORALIZACIÓN: La actividad dará comienzo a las 17.30 h y finalizará a las 22.00 h.\n\nEDAD DE LOS PARTICIPANTES: de 12 años en adelante.
URL:http://espaciojoven.marchamalo.es/event/juegos-wii-16/
CATEGORIES:EVENTOS
ATTACH;FMTTYPE=image/jpeg:http://espaciojoven.marchamalo.es/wp-content/uploads/2018/04/JUEGOS-Wii-MAYO-2018.jpg
END:VEVENT
END:VCALENDAR