BEGIN:VCALENDAR
VERSION:2.0
PRODID:-//Espacio de Creación Joven - ECPv4.2.7//NONSGML v1.0//EN
CALSCALE:GREGORIAN
METHOD:PUBLISH
X-WR-CALNAME:Espacio de Creación Joven
X-ORIGINAL-URL:http://espaciojoven.marchamalo.es
X-WR-CALDESC:Events for Espacio de Creación Joven
BEGIN:VEVENT
DTSTART;TZID=UTC+0:20180128T050000
DTEND;TZID=UTC+0:20180128T183000
DTSTAMP:20260423T085225
CREATED:20171221T195027
LAST-MODIFIED:20171221T195340
UID:1029-1517115600-1517164200@espaciojoven.marchamalo.es
SUMMARY:Juerga hasta el fin
DESCRIPTION:
URL:http://espaciojoven.marchamalo.es/event/juerga-hasta-el-fin/
CATEGORIES:EVENTOS
ATTACH;FMTTYPE=image/jpeg:http://espaciojoven.marchamalo.es/wp-content/uploads/2017/12/juerga-hasta-el-fin-cartel.jpg
END:VEVENT
END:VCALENDAR