BEGIN:VCALENDAR
VERSION:2.0
PRODID:-//Espacio de Creación Joven - ECPv4.2.7//NONSGML v1.0//EN
CALSCALE:GREGORIAN
METHOD:PUBLISH
X-WR-CALNAME:Espacio de Creación Joven
X-ORIGINAL-URL:http://espaciojoven.marchamalo.es
X-WR-CALDESC:Events for Espacio de Creación Joven
BEGIN:VEVENT
DTSTART;TZID=UTC+0:20181118T053000
DTEND;TZID=UTC+0:20181118T193000
DTSTAMP:20260422T221145
CREATED:20181024T144943
LAST-MODIFIED:20181024T144943
UID:1376-1542519000-1542569400@espaciojoven.marchamalo.es
SUMMARY:Jungla
DESCRIPTION:
URL:http://espaciojoven.marchamalo.es/event/jungla/
CATEGORIES:EVENTOS
ATTACH;FMTTYPE=image/jpeg:http://espaciojoven.marchamalo.es/wp-content/uploads/2018/10/Jungla_poster.jpg
END:VEVENT
END:VCALENDAR