BEGIN:VCALENDAR
VERSION:2.0
PRODID:-//Espacio de Creación Joven - ECPv4.2.7//NONSGML v1.0//EN
CALSCALE:GREGORIAN
METHOD:PUBLISH
X-WR-CALNAME:Espacio de Creación Joven
X-ORIGINAL-URL:http://espaciojoven.marchamalo.es
X-WR-CALDESC:Events for Espacio de Creación Joven
BEGIN:VEVENT
DTSTART;TZID=UTC+0:20171217T050000
DTEND;TZID=UTC+0:20171217T190000
DTSTAMP:20260424T015245
CREATED:20171126T161403
LAST-MODIFIED:20171126T161403
UID:963-1513486800-1513537200@espaciojoven.marchamalo.es
SUMMARY:La Bella y la Bestia
DESCRIPTION:
URL:http://espaciojoven.marchamalo.es/event/la-bella-y-la-bestia/
CATEGORIES:EVENTOS
ATTACH;FMTTYPE=image/jpeg:http://espaciojoven.marchamalo.es/wp-content/uploads/2017/11/Bella-y-Bestia.jpg
END:VEVENT
END:VCALENDAR