BEGIN:VCALENDAR
VERSION:2.0
PRODID:-//Espacio de Creación Joven - ECPv4.2.7//NONSGML v1.0//EN
CALSCALE:GREGORIAN
METHOD:PUBLISH
X-WR-CALNAME:Espacio de Creación Joven
X-ORIGINAL-URL:http://espaciojoven.marchamalo.es
X-WR-CALDESC:Events for Espacio de Creación Joven
BEGIN:VEVENT
DTSTART;TZID=UTC+0:20181014T053000
DTEND;TZID=UTC+0:20181014T190000
DTSTAMP:20260421T033312
CREATED:20180919T145609
LAST-MODIFIED:20180919T145609
UID:1316-1539495000-1539543600@espaciojoven.marchamalo.es
SUMMARY:La Tribu
DESCRIPTION:
URL:http://espaciojoven.marchamalo.es/event/la-tribu/
CATEGORIES:EVENTOS
ATTACH;FMTTYPE=image/jpeg:http://espaciojoven.marchamalo.es/wp-content/uploads/2018/09/la_tribu-479920701-large.jpg
END:VEVENT
END:VCALENDAR