BEGIN:VCALENDAR
VERSION:2.0
PRODID:-//Espacio de Creación Joven - ECPv4.2.7//NONSGML v1.0//EN
CALSCALE:GREGORIAN
METHOD:PUBLISH
X-WR-CALNAME:Espacio de Creación Joven
X-ORIGINAL-URL:http://espaciojoven.marchamalo.es
X-WR-CALDESC:Events for Espacio de Creación Joven
BEGIN:VEVENT
DTSTART;TZID=UTC+0:20180223T043000
DTEND;TZID=UTC+0:20180223T220000
DTSTAMP:20260423T075846
CREATED:20180125T193441
LAST-MODIFIED:20180125T193441
UID:1077-1519360200-1519423200@espaciojoven.marchamalo.es
SUMMARY:Labiales caseros
DESCRIPTION:OBJETIVOS:\n- Aprender a ejecutar unos labiales caseros con materiales cotidianos\, sin necesidad de gastar dinero.\n- Disfrutar de la actividad y pasar un rato divertido.\n\nDESCRIPCIÓN DE LA ACTIVIDAD: el procedimiento es sencillo y no requiere de muchos materiales. Primero los participantes decidirán el tipo de recipiente donde introducirán el bálsamo. A continuación procedemos con la ejecución del labial. Cortaremos un trozo de pintalabios o pintura (para dar color) seguidamente derretiremos con un poco de vaselina y removeremos introduciendo el cacao en polvo o esencias (para dar sabor y olor). Finalmente vertemos la mezcla en nuestro recipiente y dejamos solidificar.\n\nTEMPORALIZACIÓN: La actividad dará comienzo a las 16.30 h y finalizará a las 22.00 h.\n\nEDAD DE LOS PARTICIPANTES: primer y segundo grupo\, niños de 6 a 11 años y sucesivos grupos\, jóvenes a partir de 12 años.
URL:http://espaciojoven.marchamalo.es/event/labiales-caseros/
CATEGORIES:EVENTOS
ATTACH;FMTTYPE=image/jpeg:http://espaciojoven.marchamalo.es/wp-content/uploads/2018/01/LABIALES-CASEROS.jpg
END:VEVENT
END:VCALENDAR