BEGIN:VCALENDAR
VERSION:2.0
PRODID:-//Espacio de Creación Joven - ECPv4.2.7//NONSGML v1.0//EN
CALSCALE:GREGORIAN
METHOD:PUBLISH
X-WR-CALNAME:Espacio de Creación Joven
X-ORIGINAL-URL:http://espaciojoven.marchamalo.es
X-WR-CALDESC:Events for Espacio de Creación Joven
BEGIN:VEVENT
DTSTART;TZID=UTC+0:20180202T043000
DTEND;TZID=UTC+0:20180202T220000
DTSTAMP:20260422T211454
CREATED:20180125T191054
LAST-MODIFIED:20180125T191315
UID:1049-1517545800-1517608800@espaciojoven.marchamalo.es
SUMMARY:Llaveros esponjosos
DESCRIPTION:OBJETIVOS:\n- Realizar un esponjoso y gracioso llavero.\n- Potenciar la creatividad e imaginación.\n- Disfrutar de la actividad y pasar un rato divertido.\n\nDESCRIPCIÓN DE LA ACTIVIDAD: es una actividad muy sencilla pero es original y muy bonita. Cada participante contará con una esponja\, primero pensarán el diseño a ejecutar y lo primero que realizarán sera pintar la esponja del color deseado. A continuación con un lápiz ejecutarán el dibujo y colorearán con edding de colores realizando todos los detalles\, lo ideal es pintar una cara ya que las esponjas tienen forma redondeada. Finalmente se colocará la cuerda-llavero.\n\nTEMPORALIZACIÓN: La actividad dará comienzo a las 16.30 h y finalizará a las 22.00 h.\n\nEDAD DE LOS PARTICIPANTES: primer y segundo grupo\, niños de 6 a 11 años y sucesivos grupos\, jóvenes a partir de 12 años.
URL:http://espaciojoven.marchamalo.es/event/llaveros-esponjosos/
CATEGORIES:EVENTOS
ATTACH;FMTTYPE=image/jpeg:http://espaciojoven.marchamalo.es/wp-content/uploads/2018/01/LLAVEROS-ESPONJOSOS.jpg
END:VEVENT
END:VCALENDAR