BEGIN:VCALENDAR
VERSION:2.0
PRODID:-//Espacio de Creación Joven - ECPv4.2.7//NONSGML v1.0//EN
CALSCALE:GREGORIAN
METHOD:PUBLISH
X-WR-CALNAME:Espacio de Creación Joven
X-ORIGINAL-URL:http://espaciojoven.marchamalo.es
X-WR-CALDESC:Events for Espacio de Creación Joven
BEGIN:VEVENT
DTSTART;TZID=UTC+0:20180513T050000
DTEND;TZID=UTC+0:20180513T190000
DTSTAMP:20260420T050224
CREATED:20180430T181057
LAST-MODIFIED:20180430T181057
UID:1241-1526187600-1526238000@espaciojoven.marchamalo.es
SUMMARY:Los Vigilantes de la Playa
DESCRIPTION:
URL:http://espaciojoven.marchamalo.es/event/los-vigilantes-de-la-playa/
CATEGORIES:EVENTOS
ATTACH;FMTTYPE=image/jpeg:http://espaciojoven.marchamalo.es/wp-content/uploads/2018/04/Los-Vigilantes-de-la-Playa.jpg
END:VEVENT
END:VCALENDAR