BEGIN:VCALENDAR
VERSION:2.0
PRODID:-//Espacio de Creación Joven - ECPv4.2.7//NONSGML v1.0//EN
CALSCALE:GREGORIAN
METHOD:PUBLISH
X-WR-CALNAME:Espacio de Creación Joven
X-ORIGINAL-URL:http://espaciojoven.marchamalo.es
X-WR-CALDESC:Events for Espacio de Creación Joven
BEGIN:VEVENT
DTSTART;TZID=UTC+0:20251004T053000
DTEND;TZID=UTC+0:20251004T203000
DTSTAMP:20260424T221429
CREATED:20250917T152033
LAST-MODIFIED:20250917T152033
UID:3587-1759555800-1759609800@espaciojoven.marchamalo.es
SUMMARY:Ludoteca de Juegos de Mesa
DESCRIPTION:\n\nMÁS INFO:\n\nTodas las actividades son gratuitas.\n\nActividad para jóvenes a partir de 12 años con carné de usuario de centro.\n\nInscripciones en el Espacio Joven o mandando un correo electrónico a espacio.joven@marchamalo.com.\n\nPuedes apuntarte a partir del miércoles 24 de septiembre.\n\nPlazas limitadas y por orden de inscripción.
URL:http://espaciojoven.marchamalo.es/event/ludoteca-de-juegos-de-mesa-24/
CATEGORIES:EVENTOS
END:VEVENT
END:VCALENDAR