BEGIN:VCALENDAR
VERSION:2.0
PRODID:-//Espacio de Creación Joven - ECPv4.2.7//NONSGML v1.0//EN
CALSCALE:GREGORIAN
METHOD:PUBLISH
X-WR-CALNAME:Espacio de Creación Joven
X-ORIGINAL-URL:http://espaciojoven.marchamalo.es
X-WR-CALDESC:Events for Espacio de Creación Joven
BEGIN:VEVENT
DTSTART;TZID=UTC+0:20171209T053000
DTEND;TZID=UTC+0:20171209T220000
DTSTAMP:20260424T015439
CREATED:20171126T160621
LAST-MODIFIED:20171126T160621
UID:954-1512797400-1512856800@espaciojoven.marchamalo.es
SUMMARY:Manicura Navideña
DESCRIPTION:OBJETIVOS:\n- Aprender técnicas y trucos básicos de pintura de uñas.\n\n- Mejorar la práctica o habilidad para pintarse las uñas. -\n\n- Formarse en la manicura estilo decorada con motivos navideños.\n\n- Disfrutar de la actividad y pasar un rato divertido.\n\nDESCRIPCIÓN DE LA ACTIVIDAD: la animadora explicará la técnica para cada dibujo navideño y ejecutará un diseño de ejemplo a cada participante\, a continuación cada asistente procederá a realizar el estilo elegido.\nTEMPORALIZACIÓN: La actividad dará comienzo a las 17.30 h y finalizará a las 22.00 h.\nEDAD DE LOS PARTICIPANTES: de 12 años en adelante.
URL:http://espaciojoven.marchamalo.es/event/manicura-navidena/
CATEGORIES:EVENTOS
ATTACH;FMTTYPE=image/jpeg:http://espaciojoven.marchamalo.es/wp-content/uploads/2017/11/MANICURA-NAVIDEÑA.jpg
END:VEVENT
END:VCALENDAR