BEGIN:VCALENDAR
VERSION:2.0
PRODID:-//Espacio de Creación Joven - ECPv4.2.7//NONSGML v1.0//EN
CALSCALE:GREGORIAN
METHOD:PUBLISH
X-WR-CALNAME:Espacio de Creación Joven
X-ORIGINAL-URL:http://espaciojoven.marchamalo.es
X-WR-CALDESC:Events for Espacio de Creación Joven
BEGIN:VEVENT
DTSTART;TZID=UTC+0:20171031T080000
DTEND;TZID=UTC+0:20171031T170000
DTSTAMP:20260424T033504
CREATED:20171030T132024
LAST-MODIFIED:20171030T132112
UID:929-1509436800-1509469200@espaciojoven.marchamalo.es
SUMMARY:Más novedades en la fiesta de Halloween\, que incluirá un Concurso de Calabazas
DESCRIPTION:El Pasaje del Terror que organiza la Peña 'La Nuestra' volverá a ser el protagonista de la celebración de la noche de Halloween en Marchamalo\, que se llevará a cabo el próximo martes con otra novedad más\, que se suma a las introducidas el año pasado con tanto éxito.\nEl pasacalles vuelve a su horario original\, teniendo prevista su salida desde el Ateneo Arriaca para llegar a la Plaza Mayor\, donde se celebrará un tétrico Baile de Disfraces y una chocolatada con la colaboración de la Asociación de Mujeres y las AMPAs de los dos colegios públicos.\nLa fiesta se prolongará hasta las 20.00h\, pero antes\, sobre las 19.00h\, se hará entrega del premio a la calabaza ganadora del concurso convocado al ejemplar más pesado. La tarde anterior será el momento elegido para el pesado de las calabazas entregadas hasta el momento.\nCuando acabe la fiesta en la Plaza Mayor se abrirán las puertas del Pasaje del Terror en el Espacio Joven\, la cita más esperada cada año\, con decenas de tenebrosos personajes que estarán en su interior aguardando a quienes se aventuren a entrar... la duda es\, ¿¿conseguirán salir??\nTengan paciencia\, porque todos los que se atrevan podrán poner a prueba sus nervios hasta entrada la noche\, eso sí\, siempre en pequeños grupos y acompañados por un adulto en el caso de ser menores de 12 años.
URL:http://espaciojoven.marchamalo.es/event/mas-novedades-en-la-fiesta-de-halloween-que-incluira-un-concurso-de-calabazas/
CATEGORIES:EVENTOS
END:VEVENT
END:VCALENDAR