BEGIN:VCALENDAR
VERSION:2.0
PRODID:-//Espacio de Creación Joven - ECPv4.2.7//NONSGML v1.0//EN
CALSCALE:GREGORIAN
METHOD:PUBLISH
X-WR-CALNAME:Espacio de Creación Joven
X-ORIGINAL-URL:http://espaciojoven.marchamalo.es
X-WR-CALDESC:Events for Espacio de Creación Joven
BEGIN:VEVENT
DTSTART;TZID=UTC+0:20180119T043000
DTEND;TZID=UTC+0:20180119T220000
DTSTAMP:20260424T001131
CREATED:20171221T193943
LAST-MODIFIED:20171221T193943
UID:1014-1516336200-1516399200@espaciojoven.marchamalo.es
SUMMARY:Monedero triangular
DESCRIPTION:OBJETIVOS:\n- Aprender a diseñar un patrón a medida.\n- Ejecutar un monedero útil para guardar monedas.\n- Potenciar la creatividad e imaginación.\n- Disfrutar de la actividad y pasar un rato divertido.\n\nDESCRIPCIÓN DE LA ACTIVIDAD: comenzamos realizando un patrón con varios triángulos\, en total 4\, con las medidas que cada uno desee. Marcamos sobre la tela el patrón y recortamos. A continuación doblaremos para marcar las dobleces\, una vez cerrado por completo\, marcaremos con un lápiz donde pondremos el agujero del cierre y perforamos en la solapa de cierre y en la inferior para poner el enganche. Ponemos pegamento en el lateral y con las pinzas presionaremos para que quede bien pegado.\n\nTEMPORALIZACIÓN: La actividad dará comienzo a las 16.30 h y finalizará a las 22.00 h.\n\nEDAD DE LOS PARTICIPANTES: primer y segundo grupo\, niños de 6 a 11 años y sucesivos grupos\, jóvenes a partir de 12 años
URL:http://espaciojoven.marchamalo.es/event/monedero-triangular/
CATEGORIES:EVENTOS
ATTACH;FMTTYPE=image/jpeg:http://espaciojoven.marchamalo.es/wp-content/uploads/2017/12/Monedero-triangular.jpg
END:VEVENT
END:VCALENDAR