BEGIN:VCALENDAR
VERSION:2.0
PRODID:-//Espacio de Creación Joven - ECPv4.2.7//NONSGML v1.0//EN
CALSCALE:GREGORIAN
METHOD:PUBLISH
X-WR-CALNAME:Espacio de Creación Joven
X-ORIGINAL-URL:http://espaciojoven.marchamalo.es
X-WR-CALDESC:Events for Espacio de Creación Joven
BEGIN:VEVENT
DTSTART;TZID=UTC+0:20171112T050000
DTEND;TZID=UTC+0:20171112T183000
DTSTAMP:20260424T125613
CREATED:20171024T100347
LAST-MODIFIED:20171024T100347
UID:900-1510462800-1510511400@espaciojoven.marchamalo.es
SUMMARY:No Cuelgues
DESCRIPTION:
URL:http://espaciojoven.marchamalo.es/event/no-cuelgues/
CATEGORIES:EVENTOS
ATTACH;FMTTYPE=image/jpeg:http://espaciojoven.marchamalo.es/wp-content/uploads/2017/10/No-cuelgues.jpg
END:VEVENT
END:VCALENDAR