BEGIN:VCALENDAR
VERSION:2.0
PRODID:-//Espacio de Creación Joven - ECPv4.2.7//NONSGML v1.0//EN
CALSCALE:GREGORIAN
METHOD:PUBLISH
X-WR-CALNAME:Espacio de Creación Joven
X-ORIGINAL-URL:http://espaciojoven.marchamalo.es
X-WR-CALDESC:Events for Espacio de Creación Joven
BEGIN:VEVENT
DTSTART;TZID=UTC+0:20180309T043000
DTEND;TZID=UTC+0:20180309T220000
DTSTAMP:20260422T220612
CREATED:20180225T194411
LAST-MODIFIED:20180225T194411
UID:1105-1520569800-1520632800@espaciojoven.marchamalo.es
SUMMARY:Posavasos con palos
DESCRIPTION:OBJETIVOS:\n- Realizar un útil posavasos con materiales reciclados.\n- Mejorar la técnica de dibujo.\n- Potenciar la creatividad e imaginación.\n- Disfrutar de la actividad y pasar un rato divertido.\n\nDESCRIPCIÓN DE LA ACTIVIDAD: la animadora enseñará algunos diseños para dar ideas a los participantes. Lo primero que haremos sera repartir 8 palos a cada participante. Seguidamente cada asistente unirá todos los palos pegándolos con silicona caliente. Una vez seco\, los pintará del color que más desee\, también podrán realizar un dibujo o letras. Finalmente decorarán con goma eva\, perlas\, cinta y cuerda.\n\nTEMPORALIZACIÓN: La actividad dará comienzo a las 16.30 h y finalizará a las 22.00 h.\n\nEDAD DE LOS PARTICIPANTES: primer y segundo grupo\, niños de 6 a 11 años y sucesivos grupos\, jóvenes a partir de 12 años.
URL:http://espaciojoven.marchamalo.es/event/posavasos-con-palos/
CATEGORIES:EVENTOS
ATTACH;FMTTYPE=image/jpeg:http://espaciojoven.marchamalo.es/wp-content/uploads/2018/02/POSAVASOS-CON-PALOS.jpg
END:VEVENT
END:VCALENDAR