BEGIN:VCALENDAR
VERSION:2.0
PRODID:-//Espacio de Creación Joven - ECPv4.2.7//NONSGML v1.0//EN
CALSCALE:GREGORIAN
METHOD:PUBLISH
X-WR-CALNAME:Espacio de Creación Joven
X-ORIGINAL-URL:http://espaciojoven.marchamalo.es
X-WR-CALDESC:Events for Espacio de Creación Joven
BEGIN:VEVENT
DTSTART;TZID=UTC+0:20180511T043000
DTEND;TZID=UTC+0:20180511T220000
DTSTAMP:20260420T051658
CREATED:20180430T180500
LAST-MODIFIED:20180430T180500
UID:1232-1526013000-1526076000@espaciojoven.marchamalo.es
SUMMARY:Pulseras Tobilleras
DESCRIPTION:OBJETIVOS:\n- Ejecutar una bonita tobillera para lucir tobillos en primavera.\n- Aprender y ejecutar diferentes tipos de trenzas.\n- Potenciar la creatividad e imaginación.\n- Disfrutar de la actividad y pasar un rato divertido.\n\nDESCRIPCIÓN DE LA ACTIVIDAD: La actividad es muy sencilla. Primero cada participante elegirá hilo y cortará tres trozos largos. El siguiente paso sera realizar un nudo en uno de los extremos y pegar a la mesa con celo para que su manejo sea más sencillo. A continuación empezará con la trenza\, entrelazando una distancia de 4 cm aproximadamente\, a partir de este tramo irán añadiendo bolas en cada pasada\, introduciendo aproximadamente 8 cm y seguirá con la trenza sin abalorios otros 4 cm más. Finalmente si la medida del tobillo es la correcta añadirán el cierre.\n\nTEMPORALIZACIÓN: La actividad dará comienzo a las 16.30 h y finalizará a las 22.00 h.\n\nEDAD DE LOS PARTICIPANTES: primer y segundo grupo\, niños de 6 a 11 años y sucesivos grupos\, jóvenes a partir de 12 años.
URL:http://espaciojoven.marchamalo.es/event/pulseras-tobilleras/
CATEGORIES:EVENTOS
ATTACH;FMTTYPE=image/jpeg:http://espaciojoven.marchamalo.es/wp-content/uploads/2018/04/PULSERAS-TOBILLERAS.jpg
END:VEVENT
END:VCALENDAR