BEGIN:VCALENDAR
VERSION:2.0
PRODID:-//Espacio de Creación Joven - ECPv4.2.7//NONSGML v1.0//EN
CALSCALE:GREGORIAN
METHOD:PUBLISH
X-WR-CALNAME:Espacio de Creación Joven
X-ORIGINAL-URL:http://espaciojoven.marchamalo.es
X-WR-CALDESC:Events for Espacio de Creación Joven
BEGIN:VEVENT
DTSTART;TZID=UTC+0:20181019T043000
DTEND;TZID=UTC+0:20181019T220000
DTSTAMP:20260420T222909
CREATED:20180919T145004
LAST-MODIFIED:20180919T150256
UID:1307-1539923400-1539986400@espaciojoven.marchamalo.es
SUMMARY:Ratón porta-notas de corcho
DESCRIPTION:OBJETIVOS:\n- Realizar un ratón original\, divertido y creativo con materiales de deshecho.\n- Aprender una nueva técnica manual.\n- Usar nuestro ratón como portanotas.\n- Reutilizar tapones de corcho para ejecutar un original ratón.\n- Potenciar la creatividad e imaginación.\n- Disfrutar de la actividad y pasar un rato divertido.\n\nDESCRIPCIÓN DE LA ACTIVIDAD: la animadora previamente habrá cortado las partes del ratón (cuerpo\, orejas y pies) y les proporcionará a cada participante todas las piezas para ejecutar el ratón. A continuación empezaremos pegando las orejas a la cabeza y uniremos los pies y brazos al cuerpo. Finalmente\, solo nos quedará colocar algunos detalles como los ojos móviles\, hacerle unas gafas de alambre\, los bigotes y una bufanda o pajarita de tela o goma eva. El diseño final dependerá de la imaginación de cada joven.\n\nLos más pequeños podrán pintar el ratón con tempera.\n\nTEMPORALIZACIÓN: la actividad dará comienzo a las 16.30 h y finalizará a las 22.00 h.\n\nEDAD DE LOS PARTICIPANTES: primer y segundo grupo\, niños de 6 a 11 años y sucesivos grupos\, jóvenes a partir de 12 años.
URL:http://espaciojoven.marchamalo.es/event/raton-porta-notas-de-corcho/
CATEGORIES:EVENTOS
ATTACH;FMTTYPE=image/jpeg:http://espaciojoven.marchamalo.es/wp-content/uploads/2018/09/RATÓN-PORTA-NOTAS-DE-CORCHO.jpg
END:VEVENT
END:VCALENDAR