BEGIN:VCALENDAR
VERSION:2.0
PRODID:-//Espacio de Creación Joven - ECPv4.2.7//NONSGML v1.0//EN
CALSCALE:GREGORIAN
METHOD:PUBLISH
X-WR-CALNAME:Espacio de Creación Joven
X-ORIGINAL-URL:http://espaciojoven.marchamalo.es
X-WR-CALDESC:Events for Espacio de Creación Joven
BEGIN:VEVENT
DTSTART;TZID=UTC+0:20171126T050000
DTEND;TZID=UTC+0:20171126T190000
DTSTAMP:20260424T065627
CREATED:20171024T101910
LAST-MODIFIED:20171024T101910
UID:915-1511672400-1511722800@espaciojoven.marchamalo.es
SUMMARY:Redención
DESCRIPTION:
URL:http://espaciojoven.marchamalo.es/event/redencion/
CATEGORIES:EVENTOS
ATTACH;FMTTYPE=image/jpeg:http://espaciojoven.marchamalo.es/wp-content/uploads/2017/10/Redencion.jpg
END:VEVENT
END:VCALENDAR