BEGIN:VCALENDAR
VERSION:2.0
PRODID:-//Espacio de Creación Joven - ECPv4.2.7//NONSGML v1.0//EN
CALSCALE:GREGORIAN
METHOD:PUBLISH
X-WR-CALNAME:Espacio de Creación Joven
X-ORIGINAL-URL:http://espaciojoven.marchamalo.es
X-WR-CALDESC:Events for Espacio de Creación Joven
BEGIN:VEVENT
DTSTART;TZID=UTC+0:20181222T053000
DTEND;TZID=UTC+0:20181222T200000
DTSTAMP:20260423T094049
CREATED:20181121T152451
LAST-MODIFIED:20181121T152451
UID:1427-1545456600-1545508800@espaciojoven.marchamalo.es
SUMMARY:Regalitos anticrisis "Bola de Nieve"
DESCRIPTION:OBJETIVOS:\n- Realizar una bonita bola de cristal para decorar nuestra casa por Navidad.\n\n- Aprender a realizar una típica bola de cristal navideña.\n\n- Utilizar materiales reutilizables como botes de cristal.\n\n- Divertirse con las actividades navideñas.\n\n- Potenciar la creatividad y la concentración.\n\nDESCRIPCIÓN DE LA ACTIVIDAD: primero la animadora repartirá un bote de cristal a cada joven y un muñeco navideño.\nCuando tengan elegido el muñeco lo pegarán con silicona a la tapa del bote. Seguidamente llenarán el bote con agua y gel de fijación e introducirán purpurina\, estrellas decorativas y bolitas pequeñas de poliespan. A continuación taparán el bote y lo adornarán. Finalmente envolverán su regalo y añadirán una tarjeta con alguna frase o dedicatoria.\n\nTEMPORALIZACIÓN: la actividad dará comienzo a las 17.30 h y finalizará a las 20:00 h\, tiempo orientativo.\n\nEDAD DE LOS PARTICIPANTES: de 12 años en adelante.
URL:http://espaciojoven.marchamalo.es/event/regalitos-anticrisis-bola-de-nieve/
CATEGORIES:EVENTOS
ATTACH;FMTTYPE=image/jpeg:http://espaciojoven.marchamalo.es/wp-content/uploads/2018/11/Regalos-anticrisis.jpg
END:VEVENT
END:VCALENDAR