BEGIN:VCALENDAR
VERSION:2.0
PRODID:-//Espacio de Creación Joven - ECPv4.2.7//NONSGML v1.0//EN
CALSCALE:GREGORIAN
METHOD:PUBLISH
X-WR-CALNAME:Espacio de Creación Joven
X-ORIGINAL-URL:http://espaciojoven.marchamalo.es
X-WR-CALDESC:Events for Espacio de Creación Joven
BEGIN:VEVENT
DTSTART;TZID=UTC+0:20171215T043000
DTEND;TZID=UTC+0:20171215T220000
DTSTAMP:20260423T231113
CREATED:20171126T155556
LAST-MODIFIED:20171126T155556
UID:951-1513312200-1513375200@espaciojoven.marchamalo.es
SUMMARY:Regalos anticrisis joyería espacial
DESCRIPTION:OBJETIVOS:\n- Aprender a realizar una galaxia sobre cristal con pintura acrílica y cepillo de dientes.\n- Realizar un regalo manual que puedan disfrutar familiares y amigos en estas navidades.\n- Apreciar los regalos creados por uno mismo.\n- Concienciar del gran gasto producido en las Navidades a causa de los regalos navideños.\n- Disfrutar de la Navidad y de sus actividades con amigos.\n\nDESCRIPCIÓN DE LA ACTIVIDAD: Primero elegimos la forma de piedra que queremos\, a continuación mojamos el cepillo de dientes en pintura blanca y salpicamos sobre la piedra (estas serán las estrellas de la galaxia) a continuación con varios colores de esmaltes vamos coloreando trozos de la piedra hasta completarla. Dejamos secar y finalmente pegamos nuestra arandela y colocamos la cuerda.\n\nTEMPORALIZACIÓN: La actividad dará comienzo a las 16.30 h y finalizará a las 22.00 h.\n\nEDAD DE LOS PARTICIPANTES: primer y segundo grupo niños de 6 a 11 años y  sucesivos grupos\, jóvenes a partir de 12 años.
URL:http://espaciojoven.marchamalo.es/event/regalos-anticrisis-joyeria-espacial/
CATEGORIES:EVENTOS
ATTACH;FMTTYPE=image/jpeg:http://espaciojoven.marchamalo.es/wp-content/uploads/2017/11/Regalos-anticrisis-joyeria-espacial.jpg
END:VEVENT
END:VCALENDAR