BEGIN:VCALENDAR
VERSION:2.0
PRODID:-//Espacio de Creación Joven - ECPv4.2.7//NONSGML v1.0//EN
CALSCALE:GREGORIAN
METHOD:PUBLISH
X-WR-CALNAME:Espacio de Creación Joven
X-ORIGINAL-URL:http://espaciojoven.marchamalo.es
X-WR-CALDESC:Events for Espacio de Creación Joven
BEGIN:VEVENT
DTSTART;TZID=UTC+0:20171210T050000
DTEND;TZID=UTC+0:20171210T190000
DTSTAMP:20260424T015125
CREATED:20171126T160806
LAST-MODIFIED:20171126T160806
UID:957-1512882000-1512932400@espaciojoven.marchamalo.es
SUMMARY:Resident Evil: Vendetta
DESCRIPTION:
URL:http://espaciojoven.marchamalo.es/event/resident-evil-vendetta/
CATEGORIES:EVENTOS
ATTACH;FMTTYPE=image/jpeg:http://espaciojoven.marchamalo.es/wp-content/uploads/2017/11/Resident-Evil-Vendetta.jpg
END:VEVENT
END:VCALENDAR