BEGIN:VCALENDAR
VERSION:2.0
PRODID:-//Espacio de Creación Joven - ECPv4.2.7//NONSGML v1.0//EN
CALSCALE:GREGORIAN
METHOD:PUBLISH
X-WR-CALNAME:Espacio de Creación Joven
X-ORIGINAL-URL:http://espaciojoven.marchamalo.es
X-WR-CALDESC:Events for Espacio de Creación Joven
BEGIN:VEVENT
DTSTART;TZID=UTC+0:20180328T060000
DTEND;TZID=UTC+0:20180328T210000
DTSTAMP:20260421T084114
CREATED:20180225T203837
LAST-MODIFIED:20180225T203837
UID:1139-1522216800-1522270800@espaciojoven.marchamalo.es
SUMMARY:SEMANA DE LA JUVENTUD. I CAMPEONATO DE VÍDEOS MUSICAL.LY
DESCRIPTION:Exposición de cortos día 28 de marzo a las 18:00 h\n\n Presentación de vídeos modalidad "Musical.ly" hasta el 28 de marzo a las 17 h.\n\nSin inscripción previa (solo presentación de vídeos).\n\nEdad: a partir de 12 años.\n\nResumen del reglamento:\n\n \tConcurso por parejas o grupos (no más de 4 integrantes).\n \tModalidad de vídeo Musical.ly.\n \tEl Musical.ly será presentado en formato original y digital con los nombres de los participantes.\n \tLas canciones en modalidad Musical.ly no duraran menos de 4 minutos ni más de 10.\n \tSe pueden unir canciones.\n \tLa temática será libre\, premiando la originalidad\, creatividad y disfrute audiovisual.\n \tExistirá un premio al mejor Musical.ly.\n
URL:http://espaciojoven.marchamalo.es/event/semana-de-la-juventud-i-campeonato-de-videos-musical-ly/
CATEGORIES:EVENTOS
ATTACH;FMTTYPE=image/jpeg:http://espaciojoven.marchamalo.es/wp-content/uploads/2018/02/musical_ly.jpg
END:VEVENT
END:VCALENDAR