BEGIN:VCALENDAR
VERSION:2.0
PRODID:-//Espacio de Creación Joven - ECPv4.2.7//NONSGML v1.0//EN
CALSCALE:GREGORIAN
METHOD:PUBLISH
X-WR-CALNAME:Espacio de Creación Joven
X-ORIGINAL-URL:http://espaciojoven.marchamalo.es
X-WR-CALDESC:Events for Espacio de Creación Joven
BEGIN:VEVENT
DTSTART;TZID=UTC+0:20180327T070000
DTEND;TZID=UTC+0:20180327T210000
DTSTAMP:20260421T223828
CREATED:20180225T202344
LAST-MODIFIED:20180225T202344
UID:1136-1522134000-1522184400@espaciojoven.marchamalo.es
SUMMARY:SEMANA DE LA JUVENTUD. I Torneo de Virus
DESCRIPTION:Inscripciones: hasta el 27 de marzo.\n\nEdad: a partir de 12 años.\n\nResumen del reglamento:\n\n \tEl torneo será individual.\n \tLas partidas podrán ser de 2 a 6 jugadores.\n \tEl objetivo del juego: consiste en ser el primer jugador en completar el cuerpo humano sano. Un cuerpo lo forman 4 órganos\, uno de cada color. Si logras reunir sobre la mesa\, frente a ti\, tus 4 órganos diferentes sanos\, ¡habrás ganado la partida! Consideramos como órganos sanos aquellos que están libres de virus\, vacunados o inmunizados.\n \tSe realizarán los grupos de juego por sorteo numérico.\n \tEn cada partida comienza el jugador más joven.\n \tEl primero que consiga mantener su cuerpo sano será el ganador de la partida\, pasando solo un único participante a la siguiente ronda.\n \tFinalmente solo ganará un participante.\n
URL:http://espaciojoven.marchamalo.es/event/semana-de-la-juventud-i-torneo-de-virus/
CATEGORIES:EVENTOS
ATTACH;FMTTYPE=image/jpeg:http://espaciojoven.marchamalo.es/wp-content/uploads/2018/02/virus.jpg
END:VEVENT
END:VCALENDAR