BEGIN:VCALENDAR
VERSION:2.0
PRODID:-//Espacio de Creación Joven - ECPv4.2.7//NONSGML v1.0//EN
CALSCALE:GREGORIAN
METHOD:PUBLISH
X-WR-CALNAME:Espacio de Creación Joven
X-ORIGINAL-URL:http://espaciojoven.marchamalo.es
X-WR-CALDESC:Events for Espacio de Creación Joven
BEGIN:VEVENT
DTSTART;TZID=UTC+0:20180326T050000
DTEND;TZID=UTC+0:20180326T210000
DTSTAMP:20260421T220738
CREATED:20180225T201705
LAST-MODIFIED:20180225T201705
UID:1129-1522040400-1522098000@espaciojoven.marchamalo.es
SUMMARY:SEMANA DE LA JUVENTUD. IV Torneo de fútbol chapa
DESCRIPTION:Inscripciones: hasta el 26 de marzo.\n\nEdad: a partir de 12 años.\n\nResumen del reglamento:\n\n \tEl campeonato sera individual.\n \tSe sortearán las parejas de juego.\n \tSe expondrán los contrincantes y cada turno de juego.\n \tAntes de comenzar el partido\, el árbitro explicará el reglamento.\n \tA continuación el árbitro realizará un sorteo entre los participantes para elegir el saque y el campo del primer tiempo.\n \tCada parte del partido tendrá una duración de 10 minutos en total.\n \tAl final del partido el ganador pasará a la siguiente fase del torneo y el perdedor sera eliminado.\n \tEl número de rondas dependerá del número de participantes inscritos en la actividad.\n \tEl premio será disfrutado por el ganador de la final del torneo.\n
URL:http://espaciojoven.marchamalo.es/event/semana-de-la-juventud-iv-torneo-de-futbol-chapa/
CATEGORIES:EVENTOS
ATTACH;FMTTYPE=image/jpeg:http://espaciojoven.marchamalo.es/wp-content/uploads/2018/02/futbol-chapa.jpg
END:VEVENT
END:VCALENDAR