BEGIN:VCALENDAR
VERSION:2.0
PRODID:-//Espacio de Creación Joven - ECPv4.2.7//NONSGML v1.0//EN
CALSCALE:GREGORIAN
METHOD:PUBLISH
X-WR-CALNAME:Espacio de Creación Joven
X-ORIGINAL-URL:http://espaciojoven.marchamalo.es
X-WR-CALDESC:Events for Espacio de Creación Joven
BEGIN:VEVENT
DTSTART;TZID=UTC+0:20180324T053000
DTEND;TZID=UTC+0:20180324T220000
DTSTAMP:20260421T211804
CREATED:20180225T200220
LAST-MODIFIED:20180225T200302
UID:1126-1521869400-1521928800@espaciojoven.marchamalo.es
SUMMARY:SEMANA DE LA JUVENTUD. Torneo Just Dance 2018
DESCRIPTION:OBJETIVOS:\n- Disponer de un nuevo juego de entretenimiento.\n\n- Participar para disfrutar y pasarlo bien.\n\n- Saber jugar en equipo.\n\n- Estimular las funciones cognitivas\, como la atención\, percepción\, memoria\, orientación\, etc.\n\n- Ofrecer juegos llamativos.\n\nDESCRIPCIÓN DE LA ACTIVIDAD: la animadora en esta actividad simplemente estará de guía y observadora. Se establecerán los turnos de juego y se sortearan las parejas\, existirán varias rondas y los más puntuados o con mayores estrellas irán pasando a las siguientes fases. El número de rondas dependerá del número de participantes apuntados. Los ganadores de las partidas serán premiados.\n\nTEMPORALIZACIÓN: La actividad dará comienzo a las 17.30 h y finalizará a las 22.00 h.\n\nEDAD DE LOS PARTICIPANTES: de 12 años en adelante.
URL:http://espaciojoven.marchamalo.es/event/semana-de-la-juventud-torneo-just-dance-2018/
CATEGORIES:EVENTOS
ATTACH;FMTTYPE=image/jpeg:http://espaciojoven.marchamalo.es/wp-content/uploads/2018/02/CAMPEONATO-JUST-DANCE-2018.jpg
END:VEVENT
END:VCALENDAR