BEGIN:VCALENDAR
VERSION:2.0
PRODID:-//Espacio de Creación Joven - ECPv4.2.7//NONSGML v1.0//EN
CALSCALE:GREGORIAN
METHOD:PUBLISH
X-WR-CALNAME:Espacio de Creación Joven
X-ORIGINAL-URL:http://espaciojoven.marchamalo.es
X-WR-CALDESC:Events for Espacio de Creación Joven
BEGIN:VEVENT
DTSTART;TZID=UTC+0:20180326T050000
DTEND;TZID=UTC+0:20180326T190000
DTSTAMP:20260421T081903
CREATED:20180324T160143
LAST-MODIFIED:20180324T160143
UID:1168-1522040400-1522090800@espaciojoven.marchamalo.es
SUMMARY:SIMULADOR DE PILOTAJE DE DRONES
DESCRIPTION:-Inscripciones en el propio Espacio Joven.\n\n– Hora de inicio 17:00 h.
URL:http://espaciojoven.marchamalo.es/event/simulador-de-pilotaje-de-drones/
CATEGORIES:EVENTOS
END:VEVENT
END:VCALENDAR