BEGIN:VCALENDAR
VERSION:2.0
PRODID:-//Espacio de Creación Joven - ECPv4.2.7//NONSGML v1.0//EN
CALSCALE:GREGORIAN
METHOD:PUBLISH
X-WR-CALNAME:Espacio de Creación Joven
X-ORIGINAL-URL:http://espaciojoven.marchamalo.es
X-WR-CALDESC:Events for Espacio de Creación Joven
BEGIN:VEVENT
DTSTART;TZID=UTC+0:20181207T043000
DTEND;TZID=UTC+0:20181207T210000
DTSTAMP:20260423T034926
CREATED:20181121T145957
LAST-MODIFIED:20181121T145957
UID:1411-1544157000-1544216400@espaciojoven.marchamalo.es
SUMMARY:Slime
DESCRIPTION:TEMPORALIZACIÓN: la actividad dará comienzo a las 16.30 h y finalizará a las 21.00 h.\n\nEDAD DE LOS PARTICIPANTES: primer y segundo grupo\, niños de 6 a 11 años y sucesivos grupos\, jóvenes a partir de 12 años.
URL:http://espaciojoven.marchamalo.es/event/slime-2/
CATEGORIES:EVENTOS
ATTACH;FMTTYPE=image/jpeg:http://espaciojoven.marchamalo.es/wp-content/uploads/2018/11/Homemade_Slime_800x800.jpg
END:VEVENT
END:VCALENDAR