BEGIN:VCALENDAR
VERSION:2.0
PRODID:-//Espacio de Creación Joven - ECPv4.2.7//NONSGML v1.0//EN
CALSCALE:GREGORIAN
METHOD:PUBLISH
X-WR-CALNAME:Espacio de Creación Joven
X-ORIGINAL-URL:http://espaciojoven.marchamalo.es
X-WR-CALDESC:Events for Espacio de Creación Joven
BEGIN:VEVENT
DTSTART;TZID=UTC+0:20250530T070000
DTEND;TZID=UTC+0:20250530T210000
DTSTAMP:20260425T020735
CREATED:20250521T135945
LAST-MODIFIED:20250521T140007
UID:3561-1748588400-1748638800@espaciojoven.marchamalo.es
SUMMARY:TALLER DE ALQUIMIA "CREA Y DECORA TU KIT ANTIMOSQUITOS"
DESCRIPTION:\n\n\n\nMÁS INFO:\n\nTodas las actividades son gratuitas.\n\nTaller para jóvenes a partir de 12 años con carné de usuario de centro.\n\nInscripciones en el Espacio Joven o mandando un correo electrónico a espacio.joven@marchamalo.com.\n\nTaller impartido por Beatriz Alcázar.\n\nPuedes apuntarte a partir del miércoles 21 de mayo.\n\nPlazas limitadas y por orden de inscripción.\n\n 
URL:http://espaciojoven.marchamalo.es/event/taller-de-alquimia-crea-y-decora-tu-kit-antimosquitos/
CATEGORIES:EVENTOS
END:VEVENT
END:VCALENDAR